Package: bigPint Version: 1.14.0 Command: rm -rf bigPint.buildbin-libdir && mkdir bigPint.buildbin-libdir && F:\biocbuild\bbs-3.16-bioc\R\bin\R.exe CMD INSTALL --build --library=bigPint.buildbin-libdir bigPint_1.14.0.tar.gz StartedAt: 2023-04-11 07:36:47 -0400 (Tue, 11 Apr 2023) EndedAt: 2023-04-11 07:37:34 -0400 (Tue, 11 Apr 2023) EllapsedTime: 47.1 seconds RetCode: 0 Status: OK PackageFile: bigPint_1.14.0.zip PackageFileSize: 5.602 MiB