Package: bigPint Version: 1.14.0 Command: /Library/Frameworks/R.framework/Resources/bin/R CMD INSTALL bigPint StartedAt: 2023-04-10 15:18:13 -0400 (Mon, 10 Apr 2023) EndedAt: 2023-04-10 15:18:46 -0400 (Mon, 10 Apr 2023) EllapsedTime: 33.1 seconds RetCode: 0 Status: OK