Package: benchdamic
Version: 1.3.1
Command: /Library/Frameworks/R.framework/Resources/bin/R CMD build --keep-empty-dirs --no-resave-data benchdamic
StartedAt: 2022-07-10 21:33:25 -0400 (Sun, 10 Jul 2022)
EndedAt: 2022-07-10 21:33:27 -0400 (Sun, 10 Jul 2022)
EllapsedTime: 1.1 seconds
RetCode: 1
Status: ERROR
PackageFile: None
PackageFileSize: NA