Package: beadarraySNP Version: 1.64.0 Command: F:\biocbuild\bbs-3.16-bioc\R\bin\R.exe CMD INSTALL beadarraySNP StartedAt: 2023-04-10 15:35:44 -0400 (Mon, 10 Apr 2023) EndedAt: 2023-04-10 15:36:10 -0400 (Mon, 10 Apr 2023) EllapsedTime: 26.3 seconds RetCode: 0 Status: OK