Package: beadarraySNP Version: 1.64.0 Command: chmod a+r beadarraySNP -R && F:\biocbuild\bbs-3.16-bioc\R\bin\R.exe CMD build --keep-empty-dirs --no-resave-data beadarraySNP StartedAt: 2023-04-10 17:13:04 -0400 (Mon, 10 Apr 2023) EndedAt: 2023-04-10 17:13:39 -0400 (Mon, 10 Apr 2023) EllapsedTime: 35.1 seconds RetCode: 0 Status: OK PackageFile: beadarraySNP_1.64.0.tar.gz PackageFileSize: 570.2 KiB