Package: beadarraySNP Version: 1.64.0 Command: /home/biocbuild/bbs-3.16-bioc/R/bin/R CMD INSTALL beadarraySNP StartedAt: 2023-04-10 15:10:04 -0400 (Mon, 10 Apr 2023) EndedAt: 2023-04-10 15:10:17 -0400 (Mon, 10 Apr 2023) EllapsedTime: 12.8 seconds RetCode: 0 Status: OK