Package: baySeq Version: 2.31.0 Command: /Library/Frameworks/R.framework/Resources/bin/R CMD INSTALL baySeq StartedAt: 2022-07-10 16:32:14 -0400 (Sun, 10 Jul 2022) EndedAt: 2022-07-10 16:32:41 -0400 (Sun, 10 Jul 2022) EllapsedTime: 26.8 seconds RetCode: 0 Status: OK