Package: bamsignals Version: 1.30.0 Command: chmod a+r bamsignals -R && F:\biocbuild\bbs-3.16-bioc\R\bin\R.exe CMD build --keep-empty-dirs --no-resave-data bamsignals StartedAt: 2023-04-10 17:08:33 -0400 (Mon, 10 Apr 2023) EndedAt: 2023-04-10 17:09:17 -0400 (Mon, 10 Apr 2023) EllapsedTime: 43.6 seconds RetCode: 0 Status: OK PackageFile: bamsignals_1.30.0.tar.gz PackageFileSize: 2.677 MiB