Package: attract Version: 1.50.0 Command: chmod a+r attract -R && F:\biocbuild\bbs-3.16-bioc\R\bin\R.exe CMD build --keep-empty-dirs --no-resave-data attract StartedAt: 2023-04-10 17:06:20 -0400 (Mon, 10 Apr 2023) EndedAt: 2023-04-10 17:08:43 -0400 (Mon, 10 Apr 2023) EllapsedTime: 143.0 seconds RetCode: 0 Status: OK PackageFile: attract_1.50.0.tar.gz PackageFileSize: 4.207 MiB