Package: artMS Version: 1.15.0 Command: /Library/Frameworks/R.framework/Resources/bin/R CMD INSTALL artMS StartedAt: 2022-07-10 17:33:42 -0400 (Sun, 10 Jul 2022) EndedAt: 2022-07-10 17:34:57 -0400 (Sun, 10 Jul 2022) EllapsedTime: 74.5 seconds RetCode: 0 Status: OK