Package: artMS Version: 1.15.0 Command: /Library/Frameworks/R.framework/Resources/bin/R CMD build --keep-empty-dirs --no-resave-data artMS StartedAt: 2022-07-10 20:32:15 -0400 (Sun, 10 Jul 2022) EndedAt: 2022-07-10 20:33:14 -0400 (Sun, 10 Jul 2022) EllapsedTime: 58.6 seconds RetCode: 0 Status: OK PackageFile: artMS_1.15.0.tar.gz PackageFileSize: 3.818 MiB