Package: annotationTools Version: 1.72.0 Command: rm -rf annotationTools.buildbin-libdir && mkdir annotationTools.buildbin-libdir && F:\biocbuild\bbs-3.16-bioc\R\bin\R.exe CMD INSTALL --build --library=annotationTools.buildbin-libdir annotationTools_1.72.0.tar.gz StartedAt: 2023-04-11 07:33:04 -0400 (Tue, 11 Apr 2023) EndedAt: 2023-04-11 07:33:14 -0400 (Tue, 11 Apr 2023) EllapsedTime: 10.1 seconds RetCode: 0 Status: OK PackageFile: annotationTools_1.72.0.zip PackageFileSize: 396.8 KiB