Package: annotationTools Version: 1.72.0 Command: /home/biocbuild/bbs-3.16-bioc/R/bin/R CMD check --install=check:annotationTools.install-out.txt --library=/home/biocbuild/bbs-3.16-bioc/R/site-library --timings annotationTools_1.72.0.tar.gz StartedAt: 2023-04-10 18:58:41 -0400 (Mon, 10 Apr 2023) EndedAt: 2023-04-10 18:59:13 -0400 (Mon, 10 Apr 2023) EllapsedTime: 31.7 seconds RetCode: 0 Status: OK CheckDir: annotationTools.Rcheck Warnings: 0