Package: annotate Version: 1.75.0 Command: /Library/Frameworks/R.framework/Resources/bin/R CMD build --keep-empty-dirs --no-resave-data annotate StartedAt: 2022-07-10 20:22:14 -0400 (Sun, 10 Jul 2022) EndedAt: 2022-07-10 20:23:38 -0400 (Sun, 10 Jul 2022) EllapsedTime: 84.2 seconds RetCode: 0 Status: OK PackageFile: annotate_1.75.0.tar.gz PackageFileSize: 1.519 MiB