Package: annmap Version: 1.40.0 Command: /Library/Frameworks/R.framework/Resources/bin/R CMD build --keep-empty-dirs --no-resave-data annmap StartedAt: 2023-04-10 15:47:48 -0400 (Mon, 10 Apr 2023) EndedAt: 2023-04-10 15:48:28 -0400 (Mon, 10 Apr 2023) EllapsedTime: 39.6 seconds RetCode: 0 Status: OK PackageFile: annmap_1.40.0.tar.gz PackageFileSize: 1.005 MiB