Package: annmap Version: 1.39.0 Command: /Library/Frameworks/R.framework/Resources/bin/R CMD INSTALL annmap StartedAt: 2022-07-10 18:28:06 -0400 (Sun, 10 Jul 2022) EndedAt: 2022-07-10 18:29:53 -0400 (Sun, 10 Jul 2022) EllapsedTime: 107.8 seconds RetCode: 0 Status: OK