Package: annmap Version: 1.39.0 Command: /Library/Frameworks/R.framework/Resources/bin/R CMD build --keep-empty-dirs --no-resave-data annmap StartedAt: 2022-07-10 20:22:00 -0400 (Sun, 10 Jul 2022) EndedAt: 2022-07-10 20:22:40 -0400 (Sun, 10 Jul 2022) EllapsedTime: 40.4 seconds RetCode: 0 Status: OK PackageFile: annmap_1.39.0.tar.gz PackageFileSize: 1.005 MiB