Package: altcdfenvs Version: 2.60.0 Command: F:\biocbuild\bbs-3.16-bioc\R\bin\R.exe CMD check --no-multiarch --install=check:altcdfenvs.install-out.txt --library=F:\biocbuild\bbs-3.16-bioc\R\library --no-vignettes --timings altcdfenvs_2.60.0.tar.gz StartedAt: 2023-04-10 22:47:07 -0400 (Mon, 10 Apr 2023) EndedAt: 2023-04-10 22:48:57 -0400 (Mon, 10 Apr 2023) EllapsedTime: 110.1 seconds RetCode: 0 Status: OK CheckDir: altcdfenvs.Rcheck Warnings: 0