Package: altcdfenvs Version: 2.60.0 Command: chmod a+r altcdfenvs -R && F:\biocbuild\bbs-3.16-bioc\R\bin\R.exe CMD build --keep-empty-dirs --no-resave-data altcdfenvs StartedAt: 2023-04-10 17:00:08 -0400 (Mon, 10 Apr 2023) EndedAt: 2023-04-10 17:01:15 -0400 (Mon, 10 Apr 2023) EllapsedTime: 66.6 seconds RetCode: 0 Status: OK PackageFile: altcdfenvs_2.60.0.tar.gz PackageFileSize: 324.4 KiB