Package: altcdfenvs Version: 2.60.0 Command: /home/biocbuild/bbs-3.16-bioc/R/bin/R CMD build --keep-empty-dirs --no-resave-data altcdfenvs StartedAt: 2023-04-10 16:02:34 -0400 (Mon, 10 Apr 2023) EndedAt: 2023-04-10 16:03:31 -0400 (Mon, 10 Apr 2023) EllapsedTime: 56.9 seconds RetCode: 0 Status: OK PackageFile: altcdfenvs_2.60.0.tar.gz PackageFileSize: 316.8 KiB