Package: aggregateBioVar Version: 1.8.0 Command: rm -rf aggregateBioVar.buildbin-libdir && mkdir aggregateBioVar.buildbin-libdir && F:\biocbuild\bbs-3.16-bioc\R\bin\R.exe CMD INSTALL --build --library=aggregateBioVar.buildbin-libdir aggregateBioVar_1.8.0.tar.gz StartedAt: 2023-04-11 07:32:09 -0400 (Tue, 11 Apr 2023) EndedAt: 2023-04-11 07:32:35 -0400 (Tue, 11 Apr 2023) EllapsedTime: 26.6 seconds RetCode: 0 Status: OK PackageFile: aggregateBioVar_1.8.0.zip PackageFileSize: 1.536 MiB