Package: affycoretools Version: 1.69.1 Command: /Library/Frameworks/R.framework/Resources/bin/R CMD INSTALL affycoretools StartedAt: 2022-07-10 18:58:32 -0400 (Sun, 10 Jul 2022) EndedAt: 2022-07-10 18:58:33 -0400 (Sun, 10 Jul 2022) EllapsedTime: 1.6 seconds RetCode: 1 Status: ERROR