Package: aCGH Version: 1.76.0 Command: F:\biocbuild\bbs-3.16-bioc\R\bin\R.exe CMD check --no-multiarch --install=check:aCGH.install-out.txt --library=F:\biocbuild\bbs-3.16-bioc\R\library --no-vignettes --timings aCGH_1.76.0.tar.gz StartedAt: 2023-04-10 22:42:47 -0400 (Mon, 10 Apr 2023) EndedAt: 2023-04-10 22:44:20 -0400 (Mon, 10 Apr 2023) EllapsedTime: 93.6 seconds RetCode: 0 Status: OK CheckDir: aCGH.Rcheck Warnings: 0