Package: aCGH Version: 1.76.0 Command: chmod a+r aCGH -R && F:\biocbuild\bbs-3.16-bioc\R\bin\R.exe CMD build --keep-empty-dirs --no-resave-data aCGH StartedAt: 2023-04-10 16:57:21 -0400 (Mon, 10 Apr 2023) EndedAt: 2023-04-10 16:58:07 -0400 (Mon, 10 Apr 2023) EllapsedTime: 45.9 seconds RetCode: 0 Status: OK PackageFile: aCGH_1.76.0.tar.gz PackageFileSize: 2.097 MiB