Package: aCGH Version: 1.76.0 Command: rm -rf aCGH.buildbin-libdir && mkdir aCGH.buildbin-libdir && F:\biocbuild\bbs-3.16-bioc\R\bin\R.exe CMD INSTALL --build --library=aCGH.buildbin-libdir aCGH_1.76.0.tar.gz StartedAt: 2023-04-11 07:31:28 -0400 (Tue, 11 Apr 2023) EndedAt: 2023-04-11 07:31:58 -0400 (Tue, 11 Apr 2023) EllapsedTime: 30.1 seconds RetCode: 0 Status: OK PackageFile: aCGH_1.76.0.zip PackageFileSize: 2.435 MiB