Package: aCGH Version: 1.75.0 Command: /Library/Frameworks/R.framework/Resources/bin/R CMD build --keep-empty-dirs --no-resave-data aCGH StartedAt: 2022-07-10 19:58:48 -0400 (Sun, 10 Jul 2022) EndedAt: 2022-07-10 19:59:21 -0400 (Sun, 10 Jul 2022) EllapsedTime: 33.3 seconds RetCode: 0 Status: OK PackageFile: aCGH_1.75.0.tar.gz PackageFileSize: 2.217 MiB