Package: a4Reporting Version: 1.46.0 Command: chmod a+r a4Reporting -R && F:\biocbuild\bbs-3.16-bioc\R\bin\R.exe CMD build --keep-empty-dirs --no-resave-data a4Reporting StartedAt: 2023-04-10 16:57:21 -0400 (Mon, 10 Apr 2023) EndedAt: 2023-04-10 16:57:32 -0400 (Mon, 10 Apr 2023) EllapsedTime: 10.2 seconds RetCode: 0 Status: OK PackageFile: a4Reporting_1.46.0.tar.gz PackageFileSize: 278.1 KiB