Package: a4Core Version: 1.45.0 Command: /Library/Frameworks/R.framework/Resources/bin/R CMD build --keep-empty-dirs --no-resave-data a4Core StartedAt: 2022-07-10 19:53:27 -0400 (Sun, 10 Jul 2022) EndedAt: 2022-07-10 19:53:38 -0400 (Sun, 10 Jul 2022) EllapsedTime: 10.8 seconds RetCode: 0 Status: OK PackageFile: a4Core_1.45.0.tar.gz PackageFileSize: 275.8 KiB