Package: XINA Version: 1.16.0 Command: chmod a+r XINA -R && F:\biocbuild\bbs-3.16-bioc\R\bin\R.exe CMD build --keep-empty-dirs --no-resave-data XINA StartedAt: 2023-04-10 22:22:25 -0400 (Mon, 10 Apr 2023) EndedAt: 2023-04-10 22:23:18 -0400 (Mon, 10 Apr 2023) EllapsedTime: 53.1 seconds RetCode: 0 Status: OK PackageFile: XINA_1.16.0.tar.gz PackageFileSize: 1.19 MiB