Package: XINA Version: 1.16.0 Command: /home/biocbuild/bbs-3.16-bioc/R/bin/R CMD build --keep-empty-dirs --no-resave-data XINA StartedAt: 2023-04-10 18:34:01 -0400 (Mon, 10 Apr 2023) EndedAt: 2023-04-10 18:34:32 -0400 (Mon, 10 Apr 2023) EllapsedTime: 31.2 seconds RetCode: 0 Status: OK PackageFile: XINA_1.16.0.tar.gz PackageFileSize: 2.629 MiB