Package: XINA Version: 1.15.0 Command: rm -rf XINA.buildbin-libdir && mkdir XINA.buildbin-libdir && /Users/biocbuild/BBS/utils/build-universal.sh XINA_1.15.0.tar.gz /Library/Frameworks/R.framework/Resources/bin/R XINA.buildbin-libdir StartedAt: 2022-07-07 09:25:45 -0400 (Thu, 07 Jul 2022) EndedAt: 2022-07-07 09:25:56 -0400 (Thu, 07 Jul 2022) EllapsedTime: 10.6 seconds RetCode: 0 Status: OK PackageFile: XINA_1.15.0.tgz PackageFileSize: 2.768 MiB