Package: VariantTools Version: 1.40.0 Command: F:\biocbuild\bbs-3.16-bioc\R\bin\R.exe CMD INSTALL VariantTools StartedAt: 2023-04-10 16:22:04 -0400 (Mon, 10 Apr 2023) EndedAt: 2023-04-10 16:22:58 -0400 (Mon, 10 Apr 2023) EllapsedTime: 54.3 seconds RetCode: 0 Status: OK