Package: VariantTools Version: 1.40.0 Command: set _R_CHECK_FORCE_SUGGESTS_=0&& F:\biocbuild\bbs-3.16-bioc\R\bin\R.exe CMD check --no-multiarch --install=check:VariantTools.install-out.txt --library=F:\biocbuild\bbs-3.16-bioc\R\library --no-vignettes --timings VariantTools_1.40.0.tar.gz StartedAt: 2023-04-11 07:06:35 -0400 (Tue, 11 Apr 2023) EndedAt: 2023-04-11 07:12:11 -0400 (Tue, 11 Apr 2023) EllapsedTime: 336.5 seconds RetCode: 0 Status: WARNINGS CheckDir: VariantTools.Rcheck Warnings: 1