Package: VariantTools Version: 1.40.0 Command: chmod a+r VariantTools -R && F:\biocbuild\bbs-3.16-bioc\R\bin\R.exe CMD build --keep-empty-dirs --no-resave-data VariantTools StartedAt: 2023-04-10 22:16:36 -0400 (Mon, 10 Apr 2023) EndedAt: 2023-04-10 22:17:50 -0400 (Mon, 10 Apr 2023) EllapsedTime: 73.9 seconds RetCode: 0 Status: OK PackageFile: VariantTools_1.40.0.tar.gz PackageFileSize: 5.969 MiB