Package: VariantTools Version: 1.40.0 Command: rm -rf VariantTools.buildbin-libdir && mkdir VariantTools.buildbin-libdir && F:\biocbuild\bbs-3.16-bioc\R\bin\R.exe CMD INSTALL --build --library=VariantTools.buildbin-libdir VariantTools_1.40.0.tar.gz StartedAt: 2023-04-11 08:57:42 -0400 (Tue, 11 Apr 2023) EndedAt: 2023-04-11 08:58:46 -0400 (Tue, 11 Apr 2023) EllapsedTime: 64.3 seconds RetCode: 0 Status: OK PackageFile: VariantTools_1.40.0.zip PackageFileSize: 6.311 MiB