Package: VariantTools Version: 1.40.0 Command: /home/biocbuild/bbs-3.16-bioc/R/bin/R CMD build --keep-empty-dirs --no-resave-data VariantTools StartedAt: 2023-04-10 18:31:24 -0400 (Mon, 10 Apr 2023) EndedAt: 2023-04-10 18:32:39 -0400 (Mon, 10 Apr 2023) EllapsedTime: 75.8 seconds RetCode: 0 Status: OK PackageFile: VariantTools_1.40.0.tar.gz PackageFileSize: 5.96 MiB