Package: VariantTools Version: 1.40.0 Command: /Library/Frameworks/R.framework/Resources/bin/R CMD check --install=check:VariantTools.install-out.txt --library=/Library/Frameworks/R.framework/Resources/library --no-vignettes --timings VariantTools_1.40.0.tar.gz StartedAt: 2023-04-10 23:16:31 -0400 (Mon, 10 Apr 2023) EndedAt: 2023-04-10 23:16:37 -0400 (Mon, 10 Apr 2023) EllapsedTime: 5.8 seconds RetCode: 1 Status: ERROR CheckDir: VariantTools.Rcheck Warnings: NA