Package: VariantTools Version: 1.40.0 Command: /Library/Frameworks/R.framework/Resources/bin/R CMD build --keep-empty-dirs --no-resave-data VariantTools StartedAt: 2023-04-10 18:21:31 -0400 (Mon, 10 Apr 2023) EndedAt: 2023-04-10 18:22:32 -0400 (Mon, 10 Apr 2023) EllapsedTime: 61.0 seconds RetCode: 0 Status: OK PackageFile: VariantTools_1.40.0.tar.gz PackageFileSize: 5.968 MiB