Package: VanillaICE Version: 1.60.0 Command: /home/biocbuild/bbs-3.16-bioc/R/bin/R CMD build --keep-empty-dirs --no-resave-data VanillaICE StartedAt: 2023-04-10 18:30:59 -0400 (Mon, 10 Apr 2023) EndedAt: 2023-04-10 18:31:56 -0400 (Mon, 10 Apr 2023) EllapsedTime: 57.2 seconds RetCode: 0 Status: OK PackageFile: VanillaICE_1.60.0.tar.gz PackageFileSize: 1.792 MiB