Package: VDJdive Version: 1.0.0 Command: rm -rf VDJdive.buildbin-libdir && mkdir VDJdive.buildbin-libdir && /Users/biocbuild/BBS/utils/build-universal.sh VDJdive_1.0.0.tar.gz /Library/Frameworks/R.framework/Resources/bin/R VDJdive.buildbin-libdir StartedAt: 2023-04-11 00:10:08 -0400 (Tue, 11 Apr 2023) EndedAt: 2023-04-11 00:10:35 -0400 (Tue, 11 Apr 2023) EllapsedTime: 27.1 seconds RetCode: 0 Status: OK PackageFile: VDJdive_1.0.0.tgz PackageFileSize: 768.1 KiB