Package: Ularcirc Version: 1.16.0 Command: /Library/Frameworks/R.framework/Resources/bin/R CMD build --keep-empty-dirs --no-resave-data Ularcirc StartedAt: 2023-04-10 18:20:28 -0400 (Mon, 10 Apr 2023) EndedAt: 2023-04-10 18:20:43 -0400 (Mon, 10 Apr 2023) EllapsedTime: 14.8 seconds RetCode: 0 Status: OK PackageFile: Ularcirc_1.16.0.tar.gz PackageFileSize: 5.214 MiB