Package: TurboNorm Version: 1.46.0 Command: F:\biocbuild\bbs-3.16-bioc\R\bin\R.exe CMD check --no-multiarch --install=check:TurboNorm.install-out.txt --library=F:\biocbuild\bbs-3.16-bioc\R\library --no-vignettes --timings TurboNorm_1.46.0.tar.gz StartedAt: 2023-04-11 07:00:34 -0400 (Tue, 11 Apr 2023) EndedAt: 2023-04-11 07:01:54 -0400 (Tue, 11 Apr 2023) EllapsedTime: 80.4 seconds RetCode: 0 Status: OK CheckDir: TurboNorm.Rcheck Warnings: 0