Package: TurboNorm Version: 1.46.0 Command: /home/biocbuild/bbs-3.16-bioc/R/bin/R CMD build --keep-empty-dirs --no-resave-data TurboNorm StartedAt: 2023-04-10 18:29:47 -0400 (Mon, 10 Apr 2023) EndedAt: 2023-04-10 18:29:59 -0400 (Mon, 10 Apr 2023) EllapsedTime: 12.3 seconds RetCode: 0 Status: OK PackageFile: TurboNorm_1.46.0.tar.gz PackageFileSize: 2.012 MiB