############################################################################## ############################################################################## ### ### Running command: ### ### /Library/Frameworks/R.framework/Resources/bin/R CMD build --keep-empty-dirs --no-resave-data TurboNorm ### ############################################################################## ############################################################################## * checking for file ‘TurboNorm/DESCRIPTION’ ... OK * preparing ‘TurboNorm’: * checking DESCRIPTION meta-information ... OK * cleaning src * installing the package to build vignettes ----------------------------------- ERROR: dependency ‘affy’ is not available for package ‘TurboNorm’ * removing ‘/private/tmp/RtmpnVMyMX/Rinsta1473dba5896/TurboNorm’ ----------------------------------- ERROR: package installation failed