Package: Travel Version: 1.6.0 Command: /home/biocbuild/bbs-3.16-bioc/R/bin/R CMD build --keep-empty-dirs --no-resave-data Travel StartedAt: 2023-04-10 18:28:28 -0400 (Mon, 10 Apr 2023) EndedAt: 2023-04-10 18:29:44 -0400 (Mon, 10 Apr 2023) EllapsedTime: 75.7 seconds RetCode: 0 Status: OK PackageFile: Travel_1.6.0.tar.gz PackageFileSize: 429 KiB