Package: Travel Version: 1.6.0 Command: /Library/Frameworks/R.framework/Resources/bin/R CMD build --keep-empty-dirs --no-resave-data Travel StartedAt: 2023-04-10 18:18:32 -0400 (Mon, 10 Apr 2023) EndedAt: 2023-04-10 18:19:17 -0400 (Mon, 10 Apr 2023) EllapsedTime: 44.9 seconds RetCode: 1 Status: ERROR PackageFile: None PackageFileSize: NA