Package: Travel Version: 1.5.0 Command: /Library/Frameworks/R.framework/Resources/bin/R CMD INSTALL Travel StartedAt: 2022-07-10 15:12:04 -0400 (Sun, 10 Jul 2022) EndedAt: 2022-07-10 15:13:27 -0400 (Sun, 10 Jul 2022) EllapsedTime: 82.7 seconds RetCode: 1 Status: ERROR