Package: ToxicoGx Version: 2.2.0 Command: /Library/Frameworks/R.framework/Resources/bin/R CMD INSTALL ToxicoGx StartedAt: 2023-04-10 15:20:05 -0400 (Mon, 10 Apr 2023) EndedAt: 2023-04-10 15:20:48 -0400 (Mon, 10 Apr 2023) EllapsedTime: 43.4 seconds RetCode: 0 Status: OK