Package: TargetScore Version: 1.36.0 Command: chmod a+r TargetScore -R && F:\biocbuild\bbs-3.16-bioc\R\bin\R.exe CMD build --keep-empty-dirs --no-resave-data TargetScore StartedAt: 2023-04-10 22:02:11 -0400 (Mon, 10 Apr 2023) EndedAt: 2023-04-10 22:02:39 -0400 (Mon, 10 Apr 2023) EllapsedTime: 27.6 seconds RetCode: 0 Status: OK PackageFile: TargetScore_1.36.0.tar.gz PackageFileSize: 1.231 MiB