Package: TRONCO Version: 2.30.0 Command: /home/biocbuild/bbs-3.16-bioc/R/bin/R CMD build --keep-empty-dirs --no-resave-data TRONCO StartedAt: 2023-04-10 18:29:32 -0400 (Mon, 10 Apr 2023) EndedAt: 2023-04-10 18:30:23 -0400 (Mon, 10 Apr 2023) EllapsedTime: 51.4 seconds RetCode: 0 Status: OK PackageFile: TRONCO_2.30.0.tar.gz PackageFileSize: 801.8 KiB